BEGIN:VCALENDAR
VERSION:2.0
PRODID:-//Explorations Academy - ECPv6.15.15//NONSGML v1.0//EN
CALSCALE:GREGORIAN
METHOD:PUBLISH
X-ORIGINAL-URL:https://explorationsacademy.org
X-WR-CALDESC:Events for Explorations Academy
REFRESH-INTERVAL;VALUE=DURATION:PT1H
X-Robots-Tag:noindex
X-PUBLISHED-TTL:PT1H
BEGIN:VTIMEZONE
TZID:UTC
BEGIN:STANDARD
TZOFFSETFROM:+0000
TZOFFSETTO:+0000
TZNAME:UTC
DTSTART:20240101T000000
END:STANDARD
END:VTIMEZONE
BEGIN:VEVENT
DTSTART;VALUE=DATE:20250428
DTEND;VALUE=DATE:20250429
DTSTAMP:20260416T080831
CREATED:20241031T233622Z
LAST-MODIFIED:20241031T233622Z
UID:6568-1745798400-1745884799@explorationsacademy.org
SUMMARY:Teacher Appreciation Week
DESCRIPTION:
URL:https://explorationsacademy.org/event/teacher-appreciation-week/
LOCATION:WA
ATTACH;FMTTYPE=image/jpeg:https://explorationsacademy.org/wp-content/uploads/2024/10/entrepreneurs-meeting-office_23-2148898683-1.jpg
ORGANIZER;CN="Explorations Academy":MAILTO:info@explorationsacademy.org
END:VEVENT
END:VCALENDAR